BEGIN:VCALENDAR
VERSION:2.0
PRODID:-//ChamberMaster//Event Calendar 2.0//EN
METHOD:PUBLISH
X-PUBLISHED-TTL:P1H
REFRESH-INTERVAL:P1H
CALSCALE:GREGORIAN
BEGIN:VTIMEZONE
TZID:America/Chicago
BEGIN:DAYLIGHT
RRULE:FREQ=YEARLY;BYMONTH=3;BYDAY=2SU
DTSTART:20070101T000000
TZOFFSETFROM:-0600
TZOFFSETTO:-0500
TZNAME:Central Daylight Time
END:DAYLIGHT
BEGIN:STANDARD
RRULE:FREQ=YEARLY;BYMONTH=11;BYDAY=1SU
DTSTART:20070101T000000
TZOFFSETFROM:-0500
TZOFFSETTO:-0600
TZNAME:Central Standard Time
END:STANDARD
END:VTIMEZONE
BEGIN:VEVENT
DTSTART;TZID=America/Chicago:20260618T000000
DTEND;TZID=America/Chicago:20260621T000000
X-MICROSOFT-CDO-ALLDAYEVENT:FALSE
SUMMARY:Ben Johnson Days 2026
DESCRIPTION:Join us for the western way of life at its best! Ben Johnson Days is held in historic Pawhuska\, OK\, on Father's Day weekend! The weekend will feature a WRCA Ranch Rodeo\, the John Israel Cowboy Trade Show\, the Ben Johnson Steer Roping\, and much more! For full schedule visit:https://benjohnsondays.com/
X-ALT-DESC;FMTTYPE=text/html:<!DOCTYPE html><html><head><title></title></head><body aria-disabled="false"><div style='z-index: 0\; position: relative\; flex-shrink: 0\; display: flex\; box-sizing: border-box\; flex-direction: column\; max-width: 100%\; padding-top: 12px\; font-family: "Segoe UI Historic"\, "Segoe UI"\, Helvetica\, Arial\, sans-serif\; color: rgb(28\, 30\, 33)\; font-size: 12px\; font-style: normal\; font-variant-ligatures: normal\; font-variant-caps: normal\; font-weight: 400\; letter-spacing: normal\; orphans: 2\; text-align: start\; text-indent: 0px\; text-transform: none\; widows: 2\; word-spacing: 0px\; -webkit-text-stroke-width: 0px\; white-space: normal\; background-color: rgb(255\, 255\, 255)\; text-decoration-thickness: initial\; text-decoration-style: initial\; text-decoration-color: initial\;'><span dir="auto" style="display: block\; overflow-wrap: break-word\; font-weight: 400\; color: rgb(8\, 8\, 9)\; max-width: 100%\; min-width: 0px\; word-break: break-word\; font-family: inherit\; font-size: 0.9375rem\; line-height: 1.3333\;">Join us for the western way of life at its best! Ben Johnson Days is held in historic Pawhuska\, OK\, on Father&#39\;s Day weekend! The weekend will feature a WRCA Ranch Rodeo\, the John Israel Cowboy Trade Show\, the Ben Johnson Steer Roping\, and much more!&nbsp\;</span></div><div style='z-index: 0\; position: relative\; flex-shrink: 0\; display: flex\; box-sizing: border-box\; flex-direction: column\; max-width: 100%\; padding-top: 12px\; font-family: "Segoe UI Historic"\, "Segoe UI"\, Helvetica\, Arial\, sans-serif\; color: rgb(28\, 30\, 33)\; font-size: 12px\; font-style: normal\; font-variant-ligatures: normal\; font-variant-caps: normal\; font-weight: 400\; letter-spacing: normal\; orphans: 2\; text-align: start\; text-indent: 0px\; text-transform: none\; widows: 2\; word-spacing: 0px\; -webkit-text-stroke-width: 0px\; white-space: normal\; background-color: rgb(255\, 255\, 255)\; text-decoration-thickness: initial\; text-decoration-style: initial\; text-decoration-color: initial\;'><span dir="auto" style="display: block\; overflow-wrap: break-word\; font-weight: 400\; color: rgb(8\, 8\, 9)\; max-width: 100%\; min-width: 0px\; word-break: break-word\; font-family: inherit\; font-size: 0.9375rem\; line-height: 1.3333\;">For full schedule visit:</span><span style="color: rgb(61\, 142\, 185)\;"><span dir="auto" style="display: block\; overflow-wrap: break-word\; font-weight: 400\; max-width: 100%\; min-width: 0px\; word-break: break-word\; font-family: inherit\; font-size: 0.9375rem\; line-height: 1.3333\;"><a fr-original-style="" href="https://benjohnsondays.com/" style="user-select: auto\; color: inherit\;">https://benjohnsondays.com/</a></span></span></div><div style='z-index: 0\; position: relative\; flex-shrink: 0\; display: flex\; box-sizing: border-box\; flex-direction: column\; max-width: 100%\; font-family: "Segoe UI Historic"\, "Segoe UI"\, Helvetica\, Arial\, sans-serif\; color: rgb(28\, 30\, 33)\; font-size: 12px\; font-style: normal\; font-variant-ligatures: normal\; font-variant-caps: normal\; font-weight: 400\; letter-spacing: normal\; orphans: 2\; text-align: start\; text-indent: 0px\; text-transform: none\; widows: 2\; word-spacing: 0px\; -webkit-text-stroke-width: 0px\; white-space: normal\; background-color: rgb(255\, 255\, 255)\; text-decoration-thickness: initial\; text-decoration-style: initial\; text-decoration-color: initial\;'><br></div></body></html>
LOCATION:320 Skyline Dr. Pawhuska 74056
UID:e.3450.1434717
SEQUENCE:3
DTSTAMP:20260421T083616Z
URL:https://business.bartlesville.com/chamber-calendar/Details/ben-johnson-days-2026-1698305?sourceTypeId=Hub
END:VEVENT
END:VCALENDAR
