BEGIN:VCALENDAR
VERSION:2.0
PRODID:-//ChamberMaster//Event Calendar 2.0//EN
METHOD:PUBLISH
X-PUBLISHED-TTL:P1H
REFRESH-INTERVAL:P1H
CALSCALE:GREGORIAN
BEGIN:VTIMEZONE
TZID:America/Chicago
BEGIN:DAYLIGHT
RRULE:FREQ=YEARLY;BYMONTH=3;BYDAY=2SU
DTSTART:20070101T000000
TZOFFSETFROM:-0600
TZOFFSETTO:-0500
TZNAME:Central Daylight Time
END:DAYLIGHT
BEGIN:STANDARD
RRULE:FREQ=YEARLY;BYMONTH=11;BYDAY=1SU
DTSTART:20070101T000000
TZOFFSETFROM:-0500
TZOFFSETTO:-0600
TZNAME:Central Standard Time
END:STANDARD
END:VTIMEZONE
BEGIN:VEVENT
DTSTART;TZID=America/Chicago:20260421T150000
DTEND;TZID=America/Chicago:20260421T190000
X-MICROSOFT-CDO-ALLDAYEVENT:FALSE
SUMMARY:CPR Training- Elder Care
DESCRIPTION:Learn CPR. Save a Life.We're hosting a Basic Life Support (BLS) CPR Course on April 21 from 3pm   7pm!Hands-on training in adult\, child\, and infant CPR\, AED use & choking relief techniques.\nPerfect for healthcare professionals\, caregivers\, and community membersCost: $55 per person\nLimited to 12 participants\nInstructor: Dr. Josh Lindblom\, Director of Foundation Therapy Specialists at Elder CareThis American Heart Association course will equip you with the confidence and skills to respond in an emergency.Register today to reserve your spot! CLICK HERE
X-ALT-DESC;FMTTYPE=text/html:<!DOCTYPE html><html><head><title></title></head><body aria-disabled="false"><p style="box-sizing: inherit\; outline: 0px !important\; margin: 0px 0px 16px\; text-align: left\; line-height: 1.5\; letter-spacing: normal\; font-size: 18px\; color: rgb(20\, 24\, 39)\; font-family: Poppins\; font-style: normal\; font-variant-ligatures: normal\; font-variant-caps: normal\; font-weight: 400\; orphans: 2\; text-indent: 0px\; text-transform: none\; widows: 2\; word-spacing: 0px\; -webkit-text-stroke-width: 0px\; white-space: normal\; background-color: rgb(255\, 255\, 255)\; text-decoration-thickness: initial\; text-decoration-style: initial\; text-decoration-color: initial\;"><strong fr-original-style="box-sizing: inherit\; outline: 0px !important\; font-weight: bolder\;" style="box-sizing: inherit\; outline: 0px !important\; font-weight: bolder\;">Learn CPR. Save a Life.</strong></p><p style="box-sizing: inherit\; outline: 0px !important\; margin: 0px 0px 16px\; text-align: left\; line-height: 1.5\; letter-spacing: normal\; font-size: 18px\; color: rgb(20\, 24\, 39)\; font-family: Poppins\; font-style: normal\; font-variant-ligatures: normal\; font-variant-caps: normal\; font-weight: 400\; orphans: 2\; text-indent: 0px\; text-transform: none\; widows: 2\; word-spacing: 0px\; -webkit-text-stroke-width: 0px\; white-space: normal\; background-color: rgb(255\, 255\, 255)\; text-decoration-thickness: initial\; text-decoration-style: initial\; text-decoration-color: initial\;"><strong fr-original-style="box-sizing: inherit\; outline: 0px !important\; font-weight: bolder\;" style="box-sizing: inherit\; outline: 0px !important\; font-weight: bolder\;">We&rsquo\;re hosting a Basic Life Support (BLS) CPR Course on April 21 from 3pm &ndash\; 7pm!</strong></p><p style="box-sizing: inherit\; outline: 0px !important\; margin: 0px 0px 16px\; text-align: left\; line-height: 1.5\; letter-spacing: normal\; font-size: 18px\; color: rgb(20\, 24\, 39)\; font-family: Poppins\; font-style: normal\; font-variant-ligatures: normal\; font-variant-caps: normal\; font-weight: 400\; orphans: 2\; text-indent: 0px\; text-transform: none\; widows: 2\; word-spacing: 0px\; -webkit-text-stroke-width: 0px\; white-space: normal\; background-color: rgb(255\, 255\, 255)\; text-decoration-thickness: initial\; text-decoration-style: initial\; text-decoration-color: initial\;">Hands-on training in adult\, child\, and infant CPR\, AED use &amp\; choking relief techniques.<br style="box-sizing: inherit\; outline: 0px !important\;">Perfect for healthcare professionals\, caregivers\, and community members</p><p style="box-sizing: inherit\; outline: 0px !important\; margin: 0px 0px 16px\; text-align: left\; line-height: 1.5\; letter-spacing: normal\; font-size: 18px\; color: rgb(20\, 24\, 39)\; font-family: Poppins\; font-style: normal\; font-variant-ligatures: normal\; font-variant-caps: normal\; font-weight: 400\; orphans: 2\; text-indent: 0px\; text-transform: none\; widows: 2\; word-spacing: 0px\; -webkit-text-stroke-width: 0px\; white-space: normal\; background-color: rgb(255\, 255\, 255)\; text-decoration-thickness: initial\; text-decoration-style: initial\; text-decoration-color: initial\;">Cost: $55 per person<br style="box-sizing: inherit\; outline: 0px !important\;">Limited to 12 participants<br style="box-sizing: inherit\; outline: 0px !important\;">Instructor: Dr. Josh Lindblom\, Director of Foundation Therapy Specialists at Elder Care</p><p style="box-sizing: inherit\; outline: 0px !important\; margin: 0px 0px 16px\; text-align: left\; line-height: 1.5\; letter-spacing: normal\; font-size: 18px\; color: rgb(20\, 24\, 39)\; font-family: Poppins\; font-style: normal\; font-variant-ligatures: normal\; font-variant-caps: normal\; font-weight: 400\; orphans: 2\; text-indent: 0px\; text-transform: none\; widows: 2\; word-spacing: 0px\; -webkit-text-stroke-width: 0px\; white-space: normal\; background-color: rgb(255\, 255\, 255)\; text-decoration-thickness: initial\; text-decoration-style: initial\; text-decoration-color: initial\;">This American Heart Association course will equip you with the confidence and skills to respond in an emergency.</p><p style="box-sizing: inherit\; outline: 0px !important\; margin: 0px 0px 28px\; text-align: left\; line-height: 1.5\; letter-spacing: normal\; font-size: 18px\; color: rgb(20\, 24\, 39)\; font-family: Poppins\; font-style: normal\; font-variant-ligatures: normal\; font-variant-caps: normal\; font-weight: 400\; orphans: 2\; text-indent: 0px\; text-transform: none\; widows: 2\; word-spacing: 0px\; -webkit-text-stroke-width: 0px\; white-space: normal\; background-color: rgb(255\, 255\, 255)\; text-decoration-thickness: initial\; text-decoration-style: initial\; text-decoration-color: initial\;">Register today to reserve your spot!<span style="color: rgb(61\, 142\, 185)\;"> <a fr-original-style="box-sizing: inherit\; outline: 0px !important\; text-decoration: none\; background-color: transparent\; border-bottom: 1px solid rgb(128\, 178\, 6)\; color: rgb(67\, 108\, 178)\; transition: color 0.2s\;" href="http://weblink.donorperfect.com/ECcprapril" style="box-sizing: inherit\; text-decoration: none\; background-color: transparent\; border-bottom: 1px solid rgb(128\, 178\, 6)\; color: rgb(67\, 108\, 178)\; transition: color 0.2s\; outline: 0px !important\; user-select: auto\;">CLICK HERE</a></span></p></body></html>
LOCATION:1223 Swan Dr Bartlesville OK 74006
UID:e.3450.1442262
SEQUENCE:3
DTSTAMP:20260421T081702Z
URL:https://business.bartlesville.com/chamber-calendar/Details/cpr-training-elder-care-1708146?sourceTypeId=Hub
END:VEVENT
END:VCALENDAR
