BEGIN:VCALENDAR
VERSION:2.0
PRODID:-//ChamberMaster//Event Calendar 2.0//EN
METHOD:PUBLISH
X-PUBLISHED-TTL:P1H
REFRESH-INTERVAL:P1H
CALSCALE:GREGORIAN
BEGIN:VTIMEZONE
TZID:America/Chicago
BEGIN:DAYLIGHT
RRULE:FREQ=YEARLY;BYMONTH=3;BYDAY=2SU
DTSTART:20070101T000000
TZOFFSETFROM:-0600
TZOFFSETTO:-0500
TZNAME:Central Daylight Time
END:DAYLIGHT
BEGIN:STANDARD
RRULE:FREQ=YEARLY;BYMONTH=11;BYDAY=1SU
DTSTART:20070101T000000
TZOFFSETFROM:-0500
TZOFFSETTO:-0600
TZNAME:Central Standard Time
END:STANDARD
END:VTIMEZONE
BEGIN:VEVENT
DTSTART;TZID=America/Chicago:20260509T180000
DTEND;TZID=America/Chicago:20260509T180000
X-MICROSOFT-CDO-ALLDAYEVENT:FALSE
SUMMARY:Gracefest on the Green 2026
DESCRIPTION:Gracefest on the Green at Tower Center Unity Square May 9\, 2026 Show begins at 6pm Featured artist Stars Go Dim also performances by Kandis Eddleman and Everette Music Studio students will be performing Food trucks and family fun and FREE!
X-ALT-DESC;FMTTYPE=text/html:<!DOCTYPE html><html><head><title></title></head><body aria-disabled="false"><p><span style="color: rgb(0\, 37\, 51)\; font-family: Heebo\, Heebo\, sans-serif\; font-size: 24px\; font-style: normal\; font-variant-ligatures: normal\; font-variant-caps: normal\; font-weight: 300\; letter-spacing: normal\; orphans: 2\; text-align: left\; text-indent: 0px\; text-transform: none\; widows: 2\; word-spacing: 0px\; -webkit-text-stroke-width: 0px\; white-space: normal\; background-color: rgb(255\, 255\, 255)\; text-decoration-thickness: initial\; text-decoration-style: initial\; text-decoration-color: initial\; float: none\; display: inline !important\;">Gracefest</span><span style="color: rgb(0\, 37\, 51)\; font-family: Heebo\, Heebo\, sans-serif\; font-size: 18px\; font-style: normal\; font-variant-ligatures: normal\; font-variant-caps: normal\; font-weight: 300\; letter-spacing: normal\; orphans: 2\; text-align: left\; text-indent: 0px\; text-transform: none\; widows: 2\; word-spacing: 0px\; -webkit-text-stroke-width: 0px\; white-space: normal\; background-color: rgb(255\, 255\, 255)\; text-decoration-thickness: initial\; text-decoration-style: initial\; text-decoration-color: initial\; display: inline !important\; float: none\;"> on the Green at Tower Center Unity Square May 9\, 2026 Show begins at 6pm Featured artist <u>Stars Go Dim</u> also performances by Kandis Eddleman and Everette Music Studio students will be performing Food trucks and family fun and FREE!</span></p><p><br></p></body></html>
LOCATION:300 SE Adams Blvd Bartlesville 74003
UID:e.3450.1443256
SEQUENCE:3
DTSTAMP:20260421T082409Z
URL:https://business.bartlesville.com/chamber-calendar/Details/gracefest-on-the-green-2026-1709458?sourceTypeId=Hub
END:VEVENT
END:VCALENDAR
