BEGIN:VCALENDAR
VERSION:2.0
PRODID:-//ChamberMaster//Event Calendar 2.0//EN
METHOD:PUBLISH
X-PUBLISHED-TTL:P1H
REFRESH-INTERVAL:P1H
CALSCALE:GREGORIAN
BEGIN:VTIMEZONE
TZID:America/Chicago
BEGIN:DAYLIGHT
RRULE:FREQ=YEARLY;BYMONTH=3;BYDAY=2SU
DTSTART:20070101T000000
TZOFFSETFROM:-0600
TZOFFSETTO:-0500
TZNAME:Central Daylight Time
END:DAYLIGHT
BEGIN:STANDARD
RRULE:FREQ=YEARLY;BYMONTH=11;BYDAY=1SU
DTSTART:20070101T000000
TZOFFSETFROM:-0500
TZOFFSETTO:-0600
TZNAME:Central Standard Time
END:STANDARD
END:VTIMEZONE
BEGIN:VEVENT
DTSTART;TZID=America/Chicago:20260430T170000
DTEND;TZID=America/Chicago:20260430T183000
X-MICROSOFT-CDO-ALLDAYEVENT:FALSE
SUMMARY:Grounds for Gathering Coffee Tasting with Elder Care
DESCRIPTION:Grounds for Gathering! Coffee TastingApril 30 | 5:00 6:30 PM | $35 per personGet your taste buds buzzing at a coffee tasting experience led by The Eatery by 3 Kids & A Cake The Eatery. Enjoy sampling a variety of coffees while learning about flavors\, origins\, and brewing methods. Register Now!Call 918.336.8500 or follow the link belowhttp://weblink.donorperfect.com/groundsforgatheringEC
X-ALT-DESC;FMTTYPE=text/html:<!DOCTYPE html><html><head><title></title></head><body aria-disabled="false"><div style='white-space: pre-wrap\; margin-inline: 0px\; overflow-wrap: break-word\; margin-bottom: 0px\; margin-top: 0px\; font-family: "Segoe UI Historic"\, "Segoe UI"\, Helvetica\, Arial\, sans-serif\; color: rgb(8\, 8\, 9)\; font-size: 15px\; font-style: normal\; font-variant-ligatures: normal\; font-variant-caps: normal\; font-weight: 400\; letter-spacing: normal\; orphans: 2\; text-align: start\; text-indent: 0px\; text-transform: none\; widows: 2\; word-spacing: 0px\; -webkit-text-stroke-width: 0px\; background-color: rgb(255\, 255\, 255)\; text-decoration-thickness: initial\; text-decoration-style: initial\; text-decoration-color: initial\;'><div dir="auto" style="font-family: inherit\; text-align: start\;">Grounds for Gathering! Coffee Tasting</div></div><div style='white-space: pre-wrap\; margin-inline: 0px\; overflow-wrap: break-word\; margin-bottom: 0px\; margin-top: 0.5em\; font-family: "Segoe UI Historic"\, "Segoe UI"\, Helvetica\, Arial\, sans-serif\; color: rgb(8\, 8\, 9)\; font-size: 15px\; font-style: normal\; font-variant-ligatures: normal\; font-variant-caps: normal\; font-weight: 400\; letter-spacing: normal\; orphans: 2\; text-align: start\; text-indent: 0px\; text-transform: none\; widows: 2\; word-spacing: 0px\; -webkit-text-stroke-width: 0px\; background-color: rgb(255\, 255\, 255)\; text-decoration-thickness: initial\; text-decoration-style: initial\; text-decoration-color: initial\;'><div dir="auto" style="font-family: inherit\; text-align: start\;">April 30 | 5:00&ndash\;6:30 PM | $35 per person</div></div><div style='white-space: pre-wrap\; margin-inline: 0px\; overflow-wrap: break-word\; margin-bottom: 0px\; margin-top: 0.5em\; font-family: "Segoe UI Historic"\, "Segoe UI"\, Helvetica\, Arial\, sans-serif\; color: rgb(8\, 8\, 9)\; font-size: 15px\; font-style: normal\; font-variant-ligatures: normal\; font-variant-caps: normal\; font-weight: 400\; letter-spacing: normal\; orphans: 2\; text-align: start\; text-indent: 0px\; text-transform: none\; widows: 2\; word-spacing: 0px\; -webkit-text-stroke-width: 0px\; background-color: rgb(255\, 255\, 255)\; text-decoration-thickness: initial\; text-decoration-style: initial\; text-decoration-color: initial\;'><div dir="auto" style="font-family: inherit\; text-align: start\;">Get your taste buds buzzing at a coffee tasting experience led by <span style="text-decoration: none\; margin-inline: 0px\; text-align: inherit\; padding-inline: 0px\; overflow-wrap: break-word\; padding-bottom: 0px\; margin-bottom: 0px\; margin-top: 0px\; padding-top: 0px\; font-family: inherit\;"><a fr-original-style="color: rgb(0\, 100\, 209)\; cursor: pointer\; text-decoration: none\; outline: none\; border-inline-width: 0px\; margin-inline: 0px\; text-align: inherit\; border-inline-style: none\; padding-inline: 0px\; -webkit-tap-highlight-color: transparent\; font-weight: 600\; list-style-type: none\; box-sizing: border-box\; touch-action: manipulation\; background-color: transparent\; display: inline\; padding-bottom: 0px\; border-top-style: none\; border-bottom-width: 0px\; border-bottom-style: none\; border-top-width: 0px\; margin-bottom: 0px\; margin-top: 0px\; padding-top: 0px\; font-family: inherit\;" href="https://www.facebook.com/EateryBville?__cft__[0]=AZaJEc7fF_iaDGmNinwmWX6i3ngiPe65LJZv9u6KzC8lBy5ABHwJBwXH-NAT6ri1kHJ2kuuNBT6hUJHgFiryGCoYWh2aWZKNmUy11WAqqporFt9IhHKPZnVhEhgln4fdYAL7FJ3PNG5IBoHls_Ngn1xwZp0wuouD0v49pcusOEBj3-E6D5brWHPkjjihExloomVF7O3wPvdozSsBuTD6-nGK&__tn__=-]K-R" style="color: rgb(0\, 100\, 209)\; cursor: pointer\; text-decoration: none\; outline: none\; text-align: inherit\; -webkit-tap-highlight-color: transparent\; font-weight: 600\; list-style-type: none\; box-sizing: border-box\; touch-action: manipulation\; background-color: transparent\; display: inline\; font-family: inherit\; user-select: auto\; border-inline-width: 0px\; margin-inline: 0px\; border-inline-style: none\; padding-inline: 0px\; padding-bottom: 0px\; border-top-style: none\; border-bottom-width: 0px\; border-bottom-style: none\; border-top-width: 0px\; margin-bottom: 0px\; margin-top: 0px\; padding-top: 0px\;" tabindex="0"><span style="display: inline\; font-family: inherit\;"><span style="display: contents\; font-family: inherit\;"><span style="font-family: inherit\;">The Eatery by 3 Kids &amp\; A Cake</span></span></span></a></span> The Eatery. Enjoy sampling a variety of coffees while learning about flavors\, origins\, and brewing methods.&nbsp\;</div><div dir="auto" style="font-family: inherit\; text-align: start\;">Register Now!</div><div dir="auto" style="font-family: inherit\; text-align: start\;">Call 918.336.8500 or follow the link below</div><div dir="auto" style="font-family: inherit\; text-align: start\;"><span style="text-decoration: none\; margin-inline: 0px\; text-align: inherit\; padding-inline: 0px\; overflow-wrap: break-word\; padding-bottom: 0px\; margin-bottom: 0px\; margin-top: 0px\; padding-top: 0px\; font-family: inherit\;"><a fr-original-style="color: rgb(0\, 100\, 209)\; cursor: pointer\; text-decoration: none\; outline: none\; border-inline-width: 0px\; margin-inline: 0px\; text-align: inherit\; border-inline-style: none\; padding-inline: 0px\; -webkit-tap-highlight-color: transparent\; font-weight: 600\; list-style-type: none\; box-sizing: border-box\; touch-action: manipulation\; background-color: transparent\; display: inline\; padding-bottom: 0px\; border-top-style: none\; border-bottom-width: 0px\; border-bottom-style: none\; border-top-width: 0px\; margin-bottom: 0px\; margin-top: 0px\; padding-top: 0px\; font-family: inherit\;" href="http://weblink.donorperfect.com/groundsforgatheringEC?fbclid=IwZXh0bgNhZW0CMTAAYnJpZBExcFBQQjI4WHRwRllEYnozSXNydGMGYXBwX2lkEDIyMjAzOTE3ODgyMDA4OTIAAR6jElTt1E1yVZtquHgPM6D_k3vhk0tFPkMdVOlUo3SXClichbkBpjPCVmcnnA_aem_zSbJheNaclPH8Qr-sRQhOQ" rel="nofollow" style="color: rgb(0\, 100\, 209)\; cursor: pointer\; text-decoration: none\; outline: none\; text-align: inherit\; -webkit-tap-highlight-color: transparent\; font-weight: 600\; list-style-type: none\; box-sizing: border-box\; touch-action: manipulation\; background-color: transparent\; display: inline\; font-family: inherit\; user-select: auto\; border-inline-width: 0px\; margin-inline: 0px\; border-inline-style: none\; padding-inline: 0px\; padding-bottom: 0px\; border-top-style: none\; border-bottom-width: 0px\; border-bottom-style: none\; border-top-width: 0px\; margin-bottom: 0px\; margin-top: 0px\; padding-top: 0px\;" tabindex="0" target="_blank">http://weblink.donorperfect.com/groundsforgatheringEC</a></span></div></div></body></html>
LOCATION:324 S Johnstone Ave Bartlesville OK 74003
UID:e.3450.1443263
SEQUENCE:3
DTSTAMP:20260421T082052Z
URL:https://business.bartlesville.com/chamber-calendar/Details/grounds-for-gathering-coffee-tasting-with-elder-care-1709465?sourceTypeId=Hub
END:VEVENT
END:VCALENDAR
