BEGIN:VCALENDAR
VERSION:2.0
PRODID:-//ChamberMaster//Event Calendar 2.0//EN
METHOD:PUBLISH
X-PUBLISHED-TTL:P1H
REFRESH-INTERVAL:P1H
CALSCALE:GREGORIAN
BEGIN:VTIMEZONE
TZID:America/Chicago
BEGIN:DAYLIGHT
RRULE:FREQ=YEARLY;BYMONTH=3;BYDAY=2SU
DTSTART:20070101T000000
TZOFFSETFROM:-0600
TZOFFSETTO:-0500
TZNAME:Central Daylight Time
END:DAYLIGHT
BEGIN:STANDARD
RRULE:FREQ=YEARLY;BYMONTH=11;BYDAY=1SU
DTSTART:20070101T000000
TZOFFSETFROM:-0500
TZOFFSETTO:-0600
TZNAME:Central Standard Time
END:STANDARD
END:VTIMEZONE
BEGIN:VEVENT
DTSTART;TZID=America/Chicago:20260418T090000
DTEND;TZID=America/Chicago:20260418T120000
X-MICROSOFT-CDO-ALLDAYEVENT:FALSE
SUMMARY:Healthy Kids Day- Richard Kane YMCA
DESCRIPTION:Healthy Kids Day  is a national initiative celebrated at Ys across the country to help inspire healthy habits in kids and families.For over 30 years\, Ys have celebrated Healthy Kids Day by hosting a variety of free\, community-facing events and activities focused on active physical play\, nutrition education\, STEM and the arts\, and so much more.This year's national event is planned for April 18\, 2026 Healthy Kids Day | Richard Kane YMCA of Bartlesville918.336.0713information@rkymca.org
X-ALT-DESC;FMTTYPE=text/html:<!DOCTYPE html><html><head><title></title></head><body aria-disabled="false"><div style='margin-inline: 0px\; overflow-wrap: break-word\; margin-bottom: 0px\; margin-top: 0px\; font-family: "Segoe UI Historic"\, "Segoe UI"\, Helvetica\, Arial\, sans-serif\; color: rgb(8\, 8\, 9)\; font-size: 15px\; font-style: normal\; font-variant-ligatures: normal\; font-variant-caps: normal\; font-weight: 400\; letter-spacing: normal\; orphans: 2\; text-align: start\; text-indent: 0px\; text-transform: none\; widows: 2\; word-spacing: 0px\; -webkit-text-stroke-width: 0px\; white-space: normal\; background-color: rgb(255\, 255\, 255)\; text-decoration-thickness: initial\; text-decoration-style: initial\; text-decoration-color: initial\;'>Healthy Kids Day&reg\; is a national initiative celebrated at Ys across the country to help inspire healthy habits in kids and families.</div><div style='margin-inline: 0px\; overflow-wrap: break-word\; margin-bottom: 0px\; margin-top: 0.5em\; font-family: "Segoe UI Historic"\, "Segoe UI"\, Helvetica\, Arial\, sans-serif\; color: rgb(8\, 8\, 9)\; font-size: 15px\; font-style: normal\; font-variant-ligatures: normal\; font-variant-caps: normal\; font-weight: 400\; letter-spacing: normal\; orphans: 2\; text-align: start\; text-indent: 0px\; text-transform: none\; widows: 2\; word-spacing: 0px\; -webkit-text-stroke-width: 0px\; white-space: normal\; background-color: rgb(255\, 255\, 255)\; text-decoration-thickness: initial\; text-decoration-style: initial\; text-decoration-color: initial\;'>For over 30 years\, Ys have celebrated Healthy Kids Day by hosting a variety of free\, community-facing events and activities focused on active physical play\, nutrition education\, STEM and the arts\, and so much more.</div><div style='margin-inline: 0px\; overflow-wrap: break-word\; margin-bottom: 0px\; margin-top: 0.5em\; font-family: "Segoe UI Historic"\, "Segoe UI"\, Helvetica\, Arial\, sans-serif\; color: rgb(8\, 8\, 9)\; font-size: 15px\; font-style: normal\; font-variant-ligatures: normal\; font-variant-caps: normal\; font-weight: 400\; letter-spacing: normal\; orphans: 2\; text-align: start\; text-indent: 0px\; text-transform: none\; widows: 2\; word-spacing: 0px\; -webkit-text-stroke-width: 0px\; white-space: normal\; background-color: rgb(255\, 255\, 255)\; text-decoration-thickness: initial\; text-decoration-style: initial\; text-decoration-color: initial\;'>This year&rsquo\;s national event is planned for April 18\, 2026&nbsp\;</div><p><a fr-original-style="" href="https://www.rkymca.org/hkd" style="user-select: auto\;">Healthy Kids Day | Richard Kane YMCA of Bartlesville</a></p><div style="box-sizing: border-box\; margin-bottom: 7px\; color: rgb(47\, 47\, 47)\; font-family: Verdana\, sans-serif\; font-size: 18px\; font-style: normal\; font-variant-ligatures: normal\; font-variant-caps: normal\; font-weight: 400\; letter-spacing: normal\; orphans: 2\; text-align: left\; text-indent: 0px\; text-transform: none\; widows: 2\; word-spacing: 0px\; -webkit-text-stroke-width: 0px\; white-space: normal\; background-color: rgb(255\, 255\, 255)\; text-decoration-thickness: initial\; text-decoration-style: initial\; text-decoration-color: initial\;"><a fr-original-style="box-sizing: border-box\; color: rgb(169\, 43\, 49)\; text-decoration: none\; background-color: rgba(0\, 0\, 0\, 0)\;" href="tel:918.336.0713" style="box-sizing: border-box\; color: rgb(169\, 43\, 49)\; text-decoration: none\; background-color: rgba(0\, 0\, 0\, 0)\; user-select: auto\;">918.336.0713</a></div><div style="box-sizing: border-box\; margin-bottom: 7px\; word-break: break-word\; hyphens: auto\; color: rgb(47\, 47\, 47)\; font-family: Verdana\, sans-serif\; font-size: 18px\; font-style: normal\; font-variant-ligatures: normal\; font-variant-caps: normal\; font-weight: 400\; letter-spacing: normal\; orphans: 2\; text-align: left\; text-indent: 0px\; text-transform: none\; widows: 2\; word-spacing: 0px\; -webkit-text-stroke-width: 0px\; white-space: normal\; background-color: rgb(255\, 255\, 255)\; text-decoration-thickness: initial\; text-decoration-style: initial\; text-decoration-color: initial\;"><a fr-original-style="box-sizing: border-box\; color: rgb(169\, 43\, 49)\; text-decoration: underline\; background-color: rgba(0\, 0\, 0\, 0)\;" href="mailto:information@rkymca.org" style="box-sizing: border-box\; color: rgb(169\, 43\, 49)\; text-decoration: underline\; background-color: rgba(0\, 0\, 0\, 0)\; user-select: auto\;" target="_blank">information@rkymca.org</a></div></body></html>
LOCATION:101 N Osage Ave Bartlesville OK 74003
UID:e.3450.1440670
SEQUENCE:3
DTSTAMP:20260421T082302Z
URL:https://business.bartlesville.com/chamber-calendar/Details/healthy-kids-day-richard-kane-ymca-1705815?sourceTypeId=Hub
END:VEVENT
END:VCALENDAR
