BEGIN:VCALENDAR
VERSION:2.0
PRODID:-//ChamberMaster//Event Calendar 2.0//EN
METHOD:PUBLISH
X-PUBLISHED-TTL:P1H
REFRESH-INTERVAL:P1H
CALSCALE:GREGORIAN
BEGIN:VTIMEZONE
TZID:America/Chicago
BEGIN:DAYLIGHT
RRULE:FREQ=YEARLY;BYMONTH=3;BYDAY=2SU
DTSTART:20070101T000000
TZOFFSETFROM:-0600
TZOFFSETTO:-0500
TZNAME:Central Daylight Time
END:DAYLIGHT
BEGIN:STANDARD
RRULE:FREQ=YEARLY;BYMONTH=11;BYDAY=1SU
DTSTART:20070101T000000
TZOFFSETFROM:-0500
TZOFFSETTO:-0600
TZNAME:Central Standard Time
END:STANDARD
END:VTIMEZONE
BEGIN:VEVENT
DTSTART;TZID=America/Chicago:20260417T180000
DTEND;TZID=America/Chicago:20260417T210000
X-MICROSOFT-CDO-ALLDAYEVENT:FALSE
SUMMARY:Marigold's Bookstore Grand Re-Opening
DESCRIPTION:After so many long days\, late nights\, and so much love poured into every inch of this space\, we are finally opening the doors to Marigolds Bookstore. And we are doing it in the most magical way we can imagine\, alongside the Bartlesville Art Association Art Walk!!\n\nJoin us from 6 PM to 9 PM for an evening that feels a little electric in the best way. The shop will be full of local artists\, and a few special surprises we have been saving just for this night. It is part grand opening\, part art walk\, and completely a celebration of creativity\, community\, and books.308 S. Johnstone Ave.\, Bartlesville\, OK 74003
X-ALT-DESC;FMTTYPE=text/html:<!DOCTYPE html><html><head><title></title></head><body aria-disabled="false"><p><span style='color: rgb(8\, 8\, 9)\; font-family: "Segoe UI Historic"\, "Segoe UI"\, Helvetica\, Arial\, sans-serif\; font-size: 15px\; font-style: normal\; font-variant-ligatures: normal\; font-variant-caps: normal\; font-weight: 400\; letter-spacing: normal\; orphans: 2\; text-align: start\; text-indent: 0px\; text-transform: none\; widows: 2\; word-spacing: 0px\; -webkit-text-stroke-width: 0px\; white-space: normal\; background-color: rgb(255\, 255\, 255)\; text-decoration-thickness: initial\; text-decoration-style: initial\; text-decoration-color: initial\; display: inline !important\; float: none\;'>After so many long days\, late nights\, and so much love poured into every inch of this space\, we are finally opening the doors to Marigolds Bookstore. And we are doing it in the most magical way we can imagine\, alongside the Bartlesville Art Association Art Walk!!</span><br style="color: rgb(8\, 8\, 9)\; font-family: &quot\;Segoe UI Historic&quot\;\, &quot\;Segoe UI&quot\;\, Helvetica\, Arial\, sans-serif\; font-size: 15px\; font-style: normal\; font-variant-ligatures: normal\; font-variant-caps: normal\; font-weight: 400\; letter-spacing: normal\; orphans: 2\; text-align: start\; text-indent: 0px\; text-transform: none\; widows: 2\; word-spacing: 0px\; -webkit-text-stroke-width: 0px\; white-space: normal\; background-color: rgb(255\, 255\, 255)\; text-decoration-thickness: initial\; text-decoration-style: initial\; text-decoration-color: initial\;"><br style="color: rgb(8\, 8\, 9)\; font-family: &quot\;Segoe UI Historic&quot\;\, &quot\;Segoe UI&quot\;\, Helvetica\, Arial\, sans-serif\; font-size: 15px\; font-style: normal\; font-variant-ligatures: normal\; font-variant-caps: normal\; font-weight: 400\; letter-spacing: normal\; orphans: 2\; text-align: start\; text-indent: 0px\; text-transform: none\; widows: 2\; word-spacing: 0px\; -webkit-text-stroke-width: 0px\; white-space: normal\; background-color: rgb(255\, 255\, 255)\; text-decoration-thickness: initial\; text-decoration-style: initial\; text-decoration-color: initial\;"><span style='color: rgb(8\, 8\, 9)\; font-family: "Segoe UI Historic"\, "Segoe UI"\, Helvetica\, Arial\, sans-serif\; font-size: 15px\; font-style: normal\; font-variant-ligatures: normal\; font-variant-caps: normal\; font-weight: 400\; letter-spacing: normal\; orphans: 2\; text-align: start\; text-indent: 0px\; text-transform: none\; widows: 2\; word-spacing: 0px\; -webkit-text-stroke-width: 0px\; white-space: normal\; background-color: rgb(255\, 255\, 255)\; text-decoration-thickness: initial\; text-decoration-style: initial\; text-decoration-color: initial\; display: inline !important\; float: none\;'>Join us from 6 PM to 9 PM for an evening that feels a little electric in the best way. The shop will be full of local artists\, and a few special surprises we have been saving just for this night. It is part grand opening\, part art walk\, and completely a celebration of creativity\, community\, and books.</span></p><p><span style='color: rgb(8\, 8\, 9)\; font-family: "Segoe UI Historic"\, "Segoe UI"\, Helvetica\, Arial\, sans-serif\; font-size: 15px\; font-style: normal\; font-variant-ligatures: normal\; font-variant-caps: normal\; font-weight: 400\; letter-spacing: normal\; orphans: 2\; text-align: start\; text-indent: 0px\; text-transform: none\; widows: 2\; word-spacing: 0px\; -webkit-text-stroke-width: 0px\; white-space: normal\; background-color: rgb(255\, 255\, 255)\; text-decoration-thickness: initial\; text-decoration-style: initial\; text-decoration-color: initial\; display: inline !important\; float: none\;'><strong fr-original-style="" style="font-weight: 700\;">308 S. Johnstone Ave.\, Bartlesville\, OK 74003</strong></span></p></body></html>
LOCATION:
UID:e.3450.1435359
SEQUENCE:3
DTSTAMP:20260421T082441Z
URL:https://business.bartlesville.com/chamber-calendar/Details/marigold-s-bookstore-grand-re-opening-1699072?sourceTypeId=Hub
END:VEVENT
END:VCALENDAR
