BEGIN:VCALENDAR
VERSION:2.0
PRODID:-//ChamberMaster//Event Calendar 2.0//EN
METHOD:PUBLISH
X-PUBLISHED-TTL:P1H
REFRESH-INTERVAL:P1H
CALSCALE:GREGORIAN
BEGIN:VTIMEZONE
TZID:America/Chicago
BEGIN:DAYLIGHT
RRULE:FREQ=YEARLY;BYMONTH=3;BYDAY=2SU
DTSTART:20070101T000000
TZOFFSETFROM:-0600
TZOFFSETTO:-0500
TZNAME:Central Daylight Time
END:DAYLIGHT
BEGIN:STANDARD
RRULE:FREQ=YEARLY;BYMONTH=11;BYDAY=1SU
DTSTART:20070101T000000
TZOFFSETFROM:-0500
TZOFFSETTO:-0600
TZNAME:Central Standard Time
END:STANDARD
END:VTIMEZONE
BEGIN:VEVENT
DTSTART;TZID=America/Chicago:20261208T090000
DTEND;TZID=America/Chicago:20261208T100000
X-MICROSOFT-CDO-ALLDAYEVENT:FALSE
SUMMARY:Nonprofit Leaders Connect Coffee Club
DESCRIPTION:Area nonprofit leaders are invited to gather for coffee and conversation! Share your latest news\, exchange ideas\, and promote your upcoming events. We'll have coffee and breakfast pastries.
X-ALT-DESC;FMTTYPE=text/html:<!DOCTYPE html><html><head><title></title></head><body aria-disabled="false"><p>Area nonprofit leaders are invited to gather for coffee and conversation! Share your latest news\, exchange ideas\, and promote your upcoming events. We&#39\;ll have coffee and breakfast pastries.&nbsp\;<span fr-original-class="fr-emoticon fr-deletable fr-emoticon-img" fr-original-style="background: url(https://cdnjs.cloudflare.com/ajax/libs/emojione/2.0.1/assets/svg/1f60a.svg)\;" style='background: url("https://cdnjs.cloudflare.com/ajax/libs/emojione/2.0.1/assets/svg/1f60a.svg")\; font-weight: 400\; font-family: "Apple Color Emoji"\, "Segoe UI Emoji"\, NotoColorEmoji\, "Segoe UI Symbol"\, "Android Emoji"\, EmojiSymbols\; display: inline-block\; line-height: 1\; font-size: inherit\; height: 1em\; width: 1em\; min-height: 20px\; min-width: 20px\; margin: -0.1em 0.1em 0.1em\; vertical-align: middle\;'>&nbsp\;</span>&nbsp\;</p></body></html>
LOCATION:124 SW Frank Phillips Blvd Bartlesville 74003
UID:e.3450.1433577
SEQUENCE:3
DTSTAMP:20260421T082456Z
URL:https://business.bartlesville.com/chamber-calendar/Details/nonprofit-leaders-connect-coffee-club-1696935?sourceTypeId=Hub
END:VEVENT
END:VCALENDAR
