BEGIN:VCALENDAR
VERSION:2.0
PRODID:-//ChamberMaster//Event Calendar 2.0//EN
METHOD:PUBLISH
X-PUBLISHED-TTL:P1H
REFRESH-INTERVAL:P1H
CALSCALE:GREGORIAN
BEGIN:VTIMEZONE
TZID:America/Chicago
BEGIN:DAYLIGHT
RRULE:FREQ=YEARLY;BYMONTH=3;BYDAY=2SU
DTSTART:20070101T000000
TZOFFSETFROM:-0600
TZOFFSETTO:-0500
TZNAME:Central Daylight Time
END:DAYLIGHT
BEGIN:STANDARD
RRULE:FREQ=YEARLY;BYMONTH=11;BYDAY=1SU
DTSTART:20070101T000000
TZOFFSETFROM:-0500
TZOFFSETTO:-0600
TZNAME:Central Standard Time
END:STANDARD
END:VTIMEZONE
BEGIN:VEVENT
DTSTART;TZID=America/Chicago:20260428T180000
DTEND;TZID=America/Chicago:20260428T200000
X-MICROSOFT-CDO-ALLDAYEVENT:FALSE
SUMMARY:Ray of Hope's "Here's the Scoop"
DESCRIPTION:We are SO excited to be able to bring back "Here is the Scoop" for the THIRD year in a row\, and it is all thanks to our generous sponsor\, The Musselman Abstract Company! Open communication between a parent and child is one of the best preventative tools against child abuse\, and what better way to facilitate that conversation than with a yummy treat from Jareds' Frozen Custard! Kids 18 and under are invited to come enjoy a FREE kiddie sundae and a fun take-home activity\, a cut-out hand to help start a conversation with their grown-ups about who their trusted adults are! We will also have body safety bookmarks and literature for parents on how to rock the body safety talk! Mark your calendars for Tuesday\, April 28th\,  because we are so looking forward to seeing you and ending Child Abuse Prevention Month on a sweet note!
X-ALT-DESC;FMTTYPE=text/html:<!DOCTYPE html><html><head><title></title></head><body aria-disabled="false"><div style='white-space: pre-wrap\; margin-inline: 0px\; overflow-wrap: break-word\; margin-bottom: 0px\; margin-top: 0px\; font-family: "Segoe UI Historic"\, "Segoe UI"\, Helvetica\, Arial\, sans-serif\; color: rgb(8\, 8\, 9)\; font-size: 15px\; font-style: normal\; font-variant-ligatures: normal\; font-variant-caps: normal\; font-weight: 400\; letter-spacing: normal\; orphans: 2\; text-align: start\; text-indent: 0px\; text-transform: none\; widows: 2\; word-spacing: 0px\; -webkit-text-stroke-width: 0px\; background-color: rgb(255\, 255\, 255)\; text-decoration-thickness: initial\; text-decoration-style: initial\; text-decoration-color: initial\;'><div dir="auto" style="font-family: inherit\; text-align: start\;">We are SO excited to be able to bring back &quot\;Here is the Scoop&quot\; for the THIRD year in a row\, and it is all thanks to our generous sponsor\, <span style="text-decoration: none\; margin-inline: 0px\; text-align: inherit\; padding-inline: 0px\; overflow-wrap: break-word\; padding-bottom: 0px\; margin-bottom: 0px\; margin-top: 0px\; padding-top: 0px\; font-family: inherit\;"><a fr-original-style="color: rgb(0\, 100\, 209)\; cursor: pointer\; text-decoration: none\; outline: none\; border-inline-width: 0px\; margin-inline: 0px\; text-align: inherit\; border-inline-style: none\; padding-inline: 0px\; -webkit-tap-highlight-color: transparent\; font-weight: 600\; list-style-type: none\; box-sizing: border-box\; touch-action: manipulation\; background-color: transparent\; display: inline\; padding-bottom: 0px\; border-top-style: none\; border-bottom-width: 0px\; border-bottom-style: none\; border-top-width: 0px\; margin-bottom: 0px\; margin-top: 0px\; padding-top: 0px\; font-family: inherit\;" href="https://www.facebook.com/MusselmanAbstract?__cft__[0]=AZbqXzBJdQoQQ-HMopWZQORDCWmRpJsxopmSFPPJze5wCu8UWXBb0EPuKv8uHLma_tbJaaIN9qZ20H6n6YNQF6DeyGvkpMgmf3XVSAEujguVMJcD1k38acXIpO6pf4WJJ8hmQ3vqeR4i6TfzA3RC9fvfH2RmYMDflghkY0eUUR_ce6c6V682FZ1PHDVfTNlU7XccgDvUnHHBuBUXRBxPe2AH&__tn__=-]K-R" style="color: rgb(0\, 100\, 209)\; cursor: pointer\; text-decoration: none\; outline: none\; text-align: inherit\; -webkit-tap-highlight-color: transparent\; font-weight: 600\; list-style-type: none\; box-sizing: border-box\; touch-action: manipulation\; background-color: transparent\; display: inline\; font-family: inherit\; user-select: auto\; border-inline-width: 0px\; margin-inline: 0px\; border-inline-style: none\; padding-inline: 0px\; padding-bottom: 0px\; border-top-style: none\; border-bottom-width: 0px\; border-bottom-style: none\; border-top-width: 0px\; margin-bottom: 0px\; margin-top: 0px\; padding-top: 0px\;" tabindex="0"><span style="display: inline\; font-family: inherit\;"><span style="display: contents\; font-family: inherit\;"><span style="font-family: inherit\;">The Musselman Abstract Company</span></span></span></a></span>!&nbsp\;</div></div><div style='white-space: pre-wrap\; margin-inline: 0px\; overflow-wrap: break-word\; margin-bottom: 0px\; margin-top: 0.5em\; font-family: "Segoe UI Historic"\, "Segoe UI"\, Helvetica\, Arial\, sans-serif\; color: rgb(8\, 8\, 9)\; font-size: 15px\; font-style: normal\; font-variant-ligatures: normal\; font-variant-caps: normal\; font-weight: 400\; letter-spacing: normal\; orphans: 2\; text-align: start\; text-indent: 0px\; text-transform: none\; widows: 2\; word-spacing: 0px\; -webkit-text-stroke-width: 0px\; background-color: rgb(255\, 255\, 255)\; text-decoration-thickness: initial\; text-decoration-style: initial\; text-decoration-color: initial\;'><div dir="auto" style="font-family: inherit\; text-align: start\;">Open communication between a parent and child is one of the best preventative tools against child abuse\, and what better way to facilitate that conversation than with a yummy treat from <span style="text-decoration: none\; margin-inline: 0px\; text-align: inherit\; padding-inline: 0px\; overflow-wrap: break-word\; padding-bottom: 0px\; margin-bottom: 0px\; margin-top: 0px\; padding-top: 0px\; font-family: inherit\;"><a fr-original-style="color: rgb(0\, 100\, 209)\; cursor: pointer\; text-decoration: none\; outline: none\; border-inline-width: 0px\; margin-inline: 0px\; text-align: inherit\; border-inline-style: none\; padding-inline: 0px\; -webkit-tap-highlight-color: transparent\; font-weight: 600\; list-style-type: none\; box-sizing: border-box\; touch-action: manipulation\; background-color: transparent\; display: inline\; padding-bottom: 0px\; border-top-style: none\; border-bottom-width: 0px\; border-bottom-style: none\; border-top-width: 0px\; margin-bottom: 0px\; margin-top: 0px\; padding-top: 0px\; font-family: inherit\;" href="https://www.facebook.com/jaredscustard?__cft__[0]=AZbqXzBJdQoQQ-HMopWZQORDCWmRpJsxopmSFPPJze5wCu8UWXBb0EPuKv8uHLma_tbJaaIN9qZ20H6n6YNQF6DeyGvkpMgmf3XVSAEujguVMJcD1k38acXIpO6pf4WJJ8hmQ3vqeR4i6TfzA3RC9fvfH2RmYMDflghkY0eUUR_ce6c6V682FZ1PHDVfTNlU7XccgDvUnHHBuBUXRBxPe2AH&__tn__=-]K-R" style="color: rgb(0\, 100\, 209)\; cursor: pointer\; text-decoration: none\; outline: none\; text-align: inherit\; -webkit-tap-highlight-color: transparent\; font-weight: 600\; list-style-type: none\; box-sizing: border-box\; touch-action: manipulation\; background-color: transparent\; display: inline\; font-family: inherit\; user-select: auto\; border-inline-width: 0px\; margin-inline: 0px\; border-inline-style: none\; padding-inline: 0px\; padding-bottom: 0px\; border-top-style: none\; border-bottom-width: 0px\; border-bottom-style: none\; border-top-width: 0px\; margin-bottom: 0px\; margin-top: 0px\; padding-top: 0px\;" tabindex="0"><span style="display: inline\; font-family: inherit\;"><span style="display: contents\; font-family: inherit\;"><span style="font-family: inherit\;">Jareds&#39\; Frozen Custard</span></span></span></a></span>!&nbsp\;</div></div><div style='white-space: pre-wrap\; margin-inline: 0px\; overflow-wrap: break-word\; margin-bottom: 0px\; margin-top: 0.5em\; font-family: "Segoe UI Historic"\, "Segoe UI"\, Helvetica\, Arial\, sans-serif\; color: rgb(8\, 8\, 9)\; font-size: 15px\; font-style: normal\; font-variant-ligatures: normal\; font-variant-caps: normal\; font-weight: 400\; letter-spacing: normal\; orphans: 2\; text-align: start\; text-indent: 0px\; text-transform: none\; widows: 2\; word-spacing: 0px\; -webkit-text-stroke-width: 0px\; background-color: rgb(255\, 255\, 255)\; text-decoration-thickness: initial\; text-decoration-style: initial\; text-decoration-color: initial\;'><div dir="auto" style="font-family: inherit\; text-align: start\;">Kids 18 and under are invited to come enjoy a FREE kiddie sundae and a fun take-home activity\, a cut-out hand to help start a conversation with their grown-ups about who their trusted adults are! We will also have body safety bookmarks and literature for parents on how to rock the body safety talk!&nbsp\;</div></div><div style='white-space: pre-wrap\; margin-inline: 0px\; overflow-wrap: break-word\; margin-bottom: 0px\; margin-top: 0.5em\; font-family: "Segoe UI Historic"\, "Segoe UI"\, Helvetica\, Arial\, sans-serif\; color: rgb(8\, 8\, 9)\; font-size: 15px\; font-style: normal\; font-variant-ligatures: normal\; font-variant-caps: normal\; font-weight: 400\; letter-spacing: normal\; orphans: 2\; text-align: start\; text-indent: 0px\; text-transform: none\; widows: 2\; word-spacing: 0px\; -webkit-text-stroke-width: 0px\; background-color: rgb(255\, 255\, 255)\; text-decoration-thickness: initial\; text-decoration-style: initial\; text-decoration-color: initial\;'><div dir="auto" style="font-family: inherit\; text-align: start\;">Mark your calendars for Tuesday\, April 28th\, &nbsp\;because we are so looking forward to seeing you and ending Child Abuse Prevention Month on a sweet note!&nbsp\;</div></div></body></html>
LOCATION:4607 Nowata Road Bartlesville OK 74006
UID:e.3450.1439069
SEQUENCE:3
DTSTAMP:20260421T082507Z
URL:https://business.bartlesville.com/chamber-calendar/Details/ray-of-hope-s-here-s-the-scoop-1703288?sourceTypeId=Hub
END:VEVENT
END:VCALENDAR
