BEGIN:VCALENDAR
VERSION:2.0
PRODID:-//ChamberMaster//Event Calendar 2.0//EN
METHOD:PUBLISH
X-PUBLISHED-TTL:P1H
REFRESH-INTERVAL:P1H
CALSCALE:GREGORIAN
BEGIN:VTIMEZONE
TZID:America/Chicago
BEGIN:DAYLIGHT
RRULE:FREQ=YEARLY;BYMONTH=3;BYDAY=2SU
DTSTART:20070101T000000
TZOFFSETFROM:-0600
TZOFFSETTO:-0500
TZNAME:Central Daylight Time
END:DAYLIGHT
BEGIN:STANDARD
RRULE:FREQ=YEARLY;BYMONTH=11;BYDAY=1SU
DTSTART:20070101T000000
TZOFFSETFROM:-0500
TZOFFSETTO:-0600
TZNAME:Central Standard Time
END:STANDARD
END:VTIMEZONE
BEGIN:VEVENT
DTSTART;TZID=America/Chicago:20260828T203000
DTEND;TZID=America/Chicago:20260828T223000
X-MICROSOFT-CDO-ALLDAYEVENT:FALSE
SUMMARY:Sizzlin' Summer Series: Family Movie Night featuring Top Gun: Maverick
DESCRIPTION:Sizzlin' Summer Series will host movie night featuring "Top Gun Maverick" at Unity Square. Bring your lawn chairs or blankets. This event is free to the public. https://www.unitysquarebville.com/calendar-of-events
X-ALT-DESC;FMTTYPE=text/html:<!DOCTYPE html><html><head><title></title></head><body aria-disabled="false"><p><span style='color: rgb(35\, 31\, 32)\; font-family: Georgia\, "Times New Roman"\, Times\, serif\; font-size: 16.8px\; font-style: normal\; font-variant-ligatures: normal\; font-variant-caps: normal\; font-weight: 400\; letter-spacing: normal\; orphans: 2\; text-align: left\; text-indent: 0px\; text-transform: none\; widows: 2\; word-spacing: 0px\; -webkit-text-stroke-width: 0px\; white-space: normal\; text-decoration-thickness: initial\; text-decoration-style: initial\; text-decoration-color: initial\; display: inline !important\; float: none\;'>Sizzlin&#39\; Summer Series will host movie night featuring &quot\;Top Gun Maverick&quot\; at Unity Square. Bring your lawn chairs or blankets. This event is free to the public.</span>&nbsp\;</p><p><a fr-original-style="" href="https://www.unitysquarebville.com/calendar-of-events" style="user-select: auto\;">https://www.unitysquarebville.com/calendar-of-events</a></p></body></html>
LOCATION:300 SE Adams Blvd Bartlesville 74003
UID:e.3450.1440472
SEQUENCE:3
DTSTAMP:20260421T082824Z
URL:https://business.bartlesville.com/chamber-calendar/Details/sizzlin-summer-series-family-movie-night-featuring-top-gun-maverick-1705468?sourceTypeId=Hub
END:VEVENT
END:VCALENDAR
